BEGIN:VCALENDAR
VERSION:2.0
PRODID:-//Tergar Indonesia - ECPv6.15.20//NONSGML v1.0//EN
CALSCALE:GREGORIAN
METHOD:PUBLISH
X-WR-CALNAME:Tergar Indonesia
X-ORIGINAL-URL:https://tergarindonesia.com
X-WR-CALDESC:Events for Tergar Indonesia
REFRESH-INTERVAL;VALUE=DURATION:PT1H
X-Robots-Tag:noindex
X-PUBLISHED-TTL:PT1H
BEGIN:VTIMEZONE
TZID:UTC
BEGIN:STANDARD
TZOFFSETFROM:+0000
TZOFFSETTO:+0000
TZNAME:UTC
DTSTART:20230101T000000
END:STANDARD
END:VTIMEZONE
BEGIN:VEVENT
DTSTART;TZID=UTC:20240702T190000
DTEND;TZID=UTC:20240702T200000
DTSTAMP:20260422T025217
CREATED:20240702T030330Z
LAST-MODIFIED:20240702T030330Z
UID:2313-1719946800-1719950400@tergarindonesia.com
SUMMARY:Mengatasi Kemelekatan dengan Beristirahat pada Pernapasan
DESCRIPTION:“Apakah teman-teman saat ini sedang bernapas?” Pasti\, ya. \nTapi\, tahukah teman-teman kalau napas kita juga sangat efektif sebagai objek meditasi yang dapat membantu mengatasi “kemelekatan”—salah satu racun penyebab penderitaan? \nMari kita berlatih meditasi bersama\, beristirahat pada pernapasan yang akan membantu kita mengurangi intensitas kemelekatan. \nTerbuka untuk umum dan bebas biaya. Selasa\, 2 Juli 2024\, 19:00-20:00 WIB. Dipandu oleh Hemmarata dan Gunawan \nVia ZOOM\, meeting ID : 821 1856 5010\nPasscode : kesadaran \nInfo :\n– WA : 0838 0692 2450\n– Website : http://www.tergarindonesia.com/events/\n* Organized by @tergarindonesia
URL:https://tergarindonesia.com/event/mengatasi-kemelekatan-dengan-beristirahat-pada-pernapasan/
CATEGORIES:Latihan Meditasi Bersama,Meditasi Umum
ATTACH;FMTTYPE=image/jpeg:https://tergarindonesia.com/wp-content/uploads/2024/07/WhatsApp-Image-2024-07-02-at-00.23.23-e1719889385632.jpeg
END:VEVENT
BEGIN:VEVENT
DTSTART;TZID=UTC:20240703T193000
DTEND;TZID=UTC:20240703T210000
DTSTAMP:20260422T025217
CREATED:20240702T030524Z
LAST-MODIFIED:20240702T030524Z
UID:2316-1720035000-1720040400@tergarindonesia.com
SUMMARY:Latihan JOL 1 Bersama 3 Juli 2024
DESCRIPTION:Latihan meditasi bersama JOL 1 terbuka untuk umum. \nWaktu : Rabu\, 3 Juli 2024\nJam 19:30 – 21:00 WIB\nBebas Biaya dan terbuka untuk umum. \nAlamat:\nJl. Daan Mogot\, Perumahan Green Mansion Boulevard Raya No.35\, Jakarta Barat\, DKI Jakarta.\nMaps: https://goo.gl/maps/maVW3Y3upjbVouqm8 \nInfo:\nTlp. 021-29025314 | WA. 083806922450\nhttps://tergarindonesia.com/events/\n@TergarIndonesia
URL:https://tergarindonesia.com/event/latihan-jol-1-bersama-3-juli-2024/
CATEGORIES:Latihan Meditasi Bersama,Meditasi Umum
ATTACH;FMTTYPE=image/jpeg:https://tergarindonesia.com/wp-content/uploads/2024/07/WhatsApp-Image-2024-07-01-at-18.05.10-e1719889488984.jpeg
END:VEVENT
BEGIN:VEVENT
DTSTART;TZID=UTC:20240710T193000
DTEND;TZID=UTC:20240710T210000
DTSTAMP:20260422T025217
CREATED:20240709T040109Z
LAST-MODIFIED:20240709T040109Z
UID:2320-1720639800-1720645200@tergarindonesia.com
SUMMARY:5L
DESCRIPTION:5L (lemah\, letih\, lesu\, lelah\, dan lalai) adalah gejala yang sering dirasakan oleh masyarakat yang hidup di kota modern baik secara fisik maupun mental\, sehingga banyak orang mencoba melakukan meditasi\, tetapi apakah dengan melakukan meditasi dapat membantu hidup kita terhindar dari 5L ini atau mungkin hanya sebagai pelarian semata? \nMari kita berlatih meditasi dan diskusi bersama di Tergar Meditation Center. \nWaktu : Rabu\, 10 Juli 2024\nJam 19:30 – 21:00 WIB\nBebas Biaya dan terbuka untuk umum. \nAlamat:\nJl. Daan Mogot\, Perumahan Green Mansion Boulevard Raya No.35\, Jakarta Barat\, DKI Jakarta.\nMaps: https://goo.gl/maps/maVW3Y3upjbVouqm8 \nInfo:\nTlp. 021-29025314 | WA. 083806922450\nhttps://tergarindonesia.com/events/\n@TergarIndonesia
URL:https://tergarindonesia.com/event/5l/
CATEGORIES:Latihan Meditasi Bersama,Meditasi Umum
ATTACH;FMTTYPE=image/jpeg:https://tergarindonesia.com/wp-content/uploads/2024/07/WhatsApp-Image-2024-07-09-at-09.17.45-e1720497637577.jpeg
END:VEVENT
BEGIN:VEVENT
DTSTART;TZID=UTC:20240716T190000
DTEND;TZID=UTC:20240716T200000
DTSTAMP:20260422T025217
CREATED:20240716T032422Z
LAST-MODIFIED:20240716T032422Z
UID:2326-1721156400-1721160000@tergarindonesia.com
SUMMARY:Mind & Body Together
DESCRIPTION:Terbuka untuk umum dan bebas biaya. Selasa\, 16 Juli 2024\, 19:00-20:00 WIB. Dipandu oleh Anthony dan Norlela. \nVia ZOOM\, meeting ID : 821 1856 5010\nPasscode : kesadaran \nInfo :\n•⁠ ⁠WA : 0838 0692 2450\n•⁠ ⁠Website : http://www.tergarindonesia.com/events/\n•⁠ ⁠Organized by @tergarindonesia
URL:https://tergarindonesia.com/event/mind-body-together/
CATEGORIES:Latihan Meditasi Bersama,Meditasi Umum
ATTACH;FMTTYPE=image/jpeg:https://tergarindonesia.com/wp-content/uploads/2024/07/WhatsApp-Image-2024-07-16-at-09.21.12-e1721100233630.jpeg
END:VEVENT
BEGIN:VEVENT
DTSTART;TZID=UTC:20240717T193000
DTEND;TZID=UTC:20240717T210000
DTSTAMP:20260422T025217
CREATED:20240717T034442Z
LAST-MODIFIED:20240717T034442Z
UID:2330-1721244600-1721250000@tergarindonesia.com
SUMMARY:Latihan JOL 1 Bersama 17 Juli 2024
DESCRIPTION:Latihan meditasi bersama JOL 1 terbuka untuk umum. \nWaktu : Rabu\, 17 Juli 2024\nJam 19:30 – 21:00 WIB\nBebas Biaya dan terbuka untuk umum. \nAlamat:\nJl. Daan Mogot\, Perumahan Green Mansion Boulevard Raya No.35\, Jakarta Barat\, DKI Jakarta.\nMaps: https://goo.gl/maps/maVW3Y3upjbVouqm8 \nInfo:\nTlp. 021-29025314 | WA. 083806922450\nhttps://tergarindonesia.com/events/\n@TergarIndonesia
URL:https://tergarindonesia.com/event/latihan-jol-1-bersama-17-juli-2024/
CATEGORIES:Latihan Meditasi Bersama,Meditasi Umum
ATTACH;FMTTYPE=image/jpeg:https://tergarindonesia.com/wp-content/uploads/2024/07/WhatsApp-Image-2024-07-17-at-10.08.12-e1721187854532.jpeg
END:VEVENT
BEGIN:VEVENT
DTSTART;TZID=UTC:20240730T190000
DTEND;TZID=UTC:20240730T200000
DTSTAMP:20260422T025217
CREATED:20240730T072423Z
LAST-MODIFIED:20240730T072423Z
UID:2340-1722366000-1722369600@tergarindonesia.com
SUMMARY:
DESCRIPTION:“Mengubah Gelombang Panik Menjadi Kedamaian” \nKepanikan sering kali menciptakan masalah baru yang lebih besar bagi siapa pun yang sedang menghadapi kesulitan. Terlebih lagi\, jika kita merespons kepanikan dengan melawannya atau menyerah pada perasaan tersebut\, situasi bisa semakin memburuk. \nNamun\, kita sebenarnya bisa terbebas dari panik dengan pendekatan yang lebih efektif\, mengubahnya menjadi kedamaian. \nMari kita berlatih meditasi bersama\, mengubah gelombang panik menjadi kedamaian. \nTerbuka untuk umum dan bebas biaya. Selasa\, 30 Juli 2024\, 19:00-20:00 WIB. Dipandu oleh Hemmarata dan Clay\nVia ZOOM\, meeting ID : 821 1856 5010\nPasscode : kesadaran \nInfo :\n– WA : 0838 0692 2450\n– Website : http://www.tergarindonesia.com/events/\n* Organized by @tergarindonesia
URL:https://tergarindonesia.com/event/2340/
CATEGORIES:Latihan Meditasi Bersama,Meditasi Umum
ATTACH;FMTTYPE=image/jpeg:https://tergarindonesia.com/wp-content/uploads/2024/07/WhatsApp-Image-2024-07-30-at-10.13.37-e1722324238819.jpeg
END:VEVENT
BEGIN:VEVENT
DTSTART;TZID=UTC:20240731T193000
DTEND;TZID=UTC:20240731T210000
DTSTAMP:20260422T025217
CREATED:20240731T034249Z
LAST-MODIFIED:20240731T034249Z
UID:2343-1722454200-1722459600@tergarindonesia.com
SUMMARY:Latihan JOL 1 Bersama 31 Juli 2024
DESCRIPTION:Latihan JOL 1 Bersama \nLatihan meditasi bersama JOL 1 terbuka untuk umum. \nWaktu : Rabu\, 31 Juli 2024\nJam 19:30 – 21:00 WIB\nBebas Biaya dan terbuka untuk umum. \nAlamat:\nJl. Daan Mogot\, Perumahan Green Mansion Boulevard Raya No.35\, Jakarta Barat\, DKI Jakarta.\nMaps: https://goo.gl/maps/maVW3Y3upjbVouqm8 \nInfo:\nTlp. 021-29025314 | WA. 083806922450\nhttps://tergarindonesia.com/events/\n@TergarIndonesia
URL:https://tergarindonesia.com/event/latihan-jol-1-bersama-31-juli-2024/
CATEGORIES:Latihan Meditasi Bersama,Meditasi Umum
ATTACH;FMTTYPE=image/jpeg:https://tergarindonesia.com/wp-content/uploads/2024/07/WhatsApp-Image-2024-07-31-at-09.11.13-e1722397344615.jpeg
END:VEVENT
END:VCALENDAR