BEGIN:VCALENDAR
VERSION:2.0
PRODID:-//Tergar Indonesia - ECPv6.15.20//NONSGML v1.0//EN
CALSCALE:GREGORIAN
METHOD:PUBLISH
X-ORIGINAL-URL:https://tergarindonesia.com
X-WR-CALDESC:Events for Tergar Indonesia
REFRESH-INTERVAL;VALUE=DURATION:PT1H
X-Robots-Tag:noindex
X-PUBLISHED-TTL:PT1H
BEGIN:VTIMEZONE
TZID:UTC
BEGIN:STANDARD
TZOFFSETFROM:+0000
TZOFFSETTO:+0000
TZNAME:UTC
DTSTART:20230101T000000
END:STANDARD
END:VTIMEZONE
BEGIN:VEVENT
DTSTART;TZID=UTC:20240508T193000
DTEND;TZID=UTC:20240508T210000
DTSTAMP:20260422T054320
CREATED:20240507T025508Z
LAST-MODIFIED:20240507T025508Z
UID:2261-1715196600-1715202000@tergarindonesia.com
SUMMARY:Olah Batin
DESCRIPTION:Untuk mendapatkan kesehatan tubuh kita butuh untuk mengolah tubuh dengan berbagai cara. Ibarat seperti tubuh\, batin kita juga perlu diolah agar menjadi “sehat”. Bagaimana cara mengolah batin kita agar menjadi “sehat”? \nMari kita berlatih meditasi dan diskusi bersama di Tergar Meditation Center. \nWaktu : Rabu\, 8 Mei 2024\nJam 19:30 – 21:00 WIB\nBebas Biaya dan terbuka untuk umum. \nAlamat:\nJl. Daan Mogot\, Perumahan Green Mansion Boulevard Raya No.35\, Jakarta Barat\, DKI Jakarta.\nMaps: https://goo.gl/maps/maVW3Y3upjbVouqm8 \nInfo:\nTlp. 021-29025314 | WA. 083806922450\nhttps://tergarindonesia.com/events/\n@TergarIndonesia
URL:https://tergarindonesia.com/event/olah-batin/
CATEGORIES:Latihan Meditasi Bersama,Meditasi Umum
ATTACH;FMTTYPE=image/jpeg:https://tergarindonesia.com/wp-content/uploads/2024/05/WhatsApp-Image-2024-05-06-at-16.12.35-e1715050482861.jpeg
END:VEVENT
BEGIN:VEVENT
DTSTART;TZID=UTC:20240514T190000
DTEND;TZID=UTC:20240514T200000
DTSTAMP:20260422T054320
CREATED:20240514T025950Z
LAST-MODIFIED:20240514T025950Z
UID:2264-1715713200-1715716800@tergarindonesia.com
SUMMARY:Membongkar Mitos Identitas
DESCRIPTION:Teman-teman\, seringkali kita mengaitkan identitas kita dengan gambaran yang kita bentuk untuk dilihat orang lain. Namun\, dalam perjalanan hidup\, kita bisa tersesat dalam membedakan antara identitas sosial yang kita tampilkan dan hakikat diri yang sesungguhnya. \nDalam latihan meditasi kita kali ini\, mari bersama-sama menyingkap tabir identitas yang kita buat dan menemukan kedalaman hakikat diri kita yang sejati. \nMari kita latihan meditasi bersama\, menjelajahi esensi kesadaran\, yang membebaskan kita dari tekanan untuk terus membentuk dan menyempurnakan citra diri kita. \nTerbuka untuk umum dan bebas biaya. Selasa\, 14 Mei 2024\, 19:00-20:00 WIB. Dipandu oleh Hemmarata dan Eripin \nVia ZOOM\, meeting ID : 821 1856 5010\nPasscode : kesadaran \nInfo :\n– WA : 0838 0692 2450\n– Website : http://www.tergarindonesia.com/events/\n* Organized by @tergarindonesia
URL:https://tergarindonesia.com/event/membongkar-mitos-identitas/
CATEGORIES:Latihan Meditasi Bersama,Meditasi Umum
ATTACH;FMTTYPE=image/jpeg:https://tergarindonesia.com/wp-content/uploads/2024/05/WhatsApp-Image-2024-05-14-at-09.22.43-e1715655552558.jpeg
END:VEVENT
BEGIN:VEVENT
DTSTART;TZID=UTC:20240528T190000
DTEND;TZID=UTC:20240528T200000
DTSTAMP:20260422T054320
CREATED:20240528T031107Z
LAST-MODIFIED:20240528T031107Z
UID:2274-1716922800-1716926400@tergarindonesia.com
SUMMARY:Are you stuck in your comfort zone?
DESCRIPTION:Diskusi dan Latihan meditasi bersama. Terbuka untuk umum dan bebas biaya \nSelasa\, 28 Mei 2024\, 19:00-20:00 WIB\nDipandu oleh Phoenix (Host) dan Eripin (Co-host). \nVia ZOOM\, meeting ID : 821 1856 5010\nPasscode : kesadaran \nInfo :\n– Informasi : 0838 0692 2450 (WA)\n– Website : http://www.tergarindonesia.com/events/\n– Organized by @tergarindonesia
URL:https://tergarindonesia.com/event/are-you-stuck-in-your-comfort-zone/
CATEGORIES:Latihan Meditasi Bersama,Meditasi Umum
ATTACH;FMTTYPE=image/jpeg:https://tergarindonesia.com/wp-content/uploads/2024/05/WhatsApp-Image-2024-05-27-at-09.09.22-1-e1716865830768.jpeg
END:VEVENT
END:VCALENDAR