BEGIN:VCALENDAR
VERSION:2.0
PRODID:-//Tergar Indonesia - ECPv6.15.20//NONSGML v1.0//EN
CALSCALE:GREGORIAN
METHOD:PUBLISH
X-ORIGINAL-URL:https://tergarindonesia.com
X-WR-CALDESC:Events for Tergar Indonesia
REFRESH-INTERVAL;VALUE=DURATION:PT1H
X-Robots-Tag:noindex
X-PUBLISHED-TTL:PT1H
BEGIN:VTIMEZONE
TZID:UTC
BEGIN:STANDARD
TZOFFSETFROM:+0000
TZOFFSETTO:+0000
TZNAME:UTC
DTSTART:20230101T000000
END:STANDARD
END:VTIMEZONE
BEGIN:VEVENT
DTSTART;TZID=UTC:20240402T190000
DTEND;TZID=UTC:20240402T200000
DTSTAMP:20260422T071023
CREATED:20240401T100530Z
LAST-MODIFIED:20240401T100530Z
UID:2231-1712084400-1712088000@tergarindonesia.com
SUMMARY:Rasa Suka - Tidak Suka : Bukanlah Musuh Dalam Meditasi
DESCRIPTION:Kebanyakan kita punya keinginan untuk mendapatkan ketenangan saat praktik meditasi\, sehingga kalau ada kondisi yang tidak nyaman\, kita langsung bereaksi\, muncul rasa tidak suka. \nTeman-teman\, pernahkah Anda mendengar atau bahkan mengucapkan hal seperti berikut\, “Kenapa saya kemarin bisa begitu tenang saat meditasi ya ? Sedangkan hari ini\, saya tidak bisa mendapatkan ketenangan itu. Apa ada yang salah dengan meditasi saya ? Apa sebenarnya kemarin itu hanya sugesti saya saja ? Jangan\,jangan\, latihan meditasi itu percuma\, gak ada guna”. \nMari kita berlatih meditasi bersama dengan pengertian yang benar. Kita manfaatkan munculnya “Rasa Suka – Tidak Suka” saat bermeditasi sebagai pendukung meditasi kita\, sebagai objek yang menghubungkan kita dengan kesadaran (kebaikan dasar bawaan) kita. \nTerbuka untuk umum dan bebas biaya. Selasa\, 02 April 2024\, 19:00-20:00 WIB. Dipandu oleh Hemmarata dan Eripin \nVia ZOOM\, meeting ID : 821 1856 5010\nPasscode : kesadaran \nInfo :\n– WA : 0838 0692 2450\n– Website : http://www.tergarindonesia.com/events/\n• Organized by @tergarindonesia
URL:https://tergarindonesia.com/event/rasa-suka-tidak-suka-bukanlah-musuh-dalam-meditasi/
CATEGORIES:Latihan Meditasi Bersama,Meditasi Umum
ATTACH;FMTTYPE=image/jpeg:https://tergarindonesia.com/wp-content/uploads/2024/04/WhatsApp-Image-2024-04-01-at-4.52.16-PM-e1711965904198.jpeg
END:VEVENT
BEGIN:VEVENT
DTSTART;TZID=UTC:20240416T190000
DTEND;TZID=UTC:20240416T200000
DTSTAMP:20260422T071023
CREATED:20240415T081004Z
LAST-MODIFIED:20240415T081004Z
UID:2242-1713294000-1713297600@tergarindonesia.com
SUMMARY:Problem adalah Solusi
DESCRIPTION:Pernahkah Anda mengalami situasi di mana Anda ingin berlatih meditasi dengan semangat yang tinggi\, namun saat memulai\, Anda dihadapkan dengan berbagai tantangan\, seperti gangguan suara dari “teman-teman” kita? \nSebenarnya\, Anda berharap dapat berlatih dalam suasana yang tenang\, namun kenyataannya seringkali berbeda dari yang Anda harapkan. \nBagaimana caranya kita bisa tetap berlatih meditasi meskipun kondisi yang kita hadapi tidak sesuai dengan harapan kita? \nMari kita latih meditasi bersama-sama di tengah kondisi yang mungkin tidak ideal ini. Kita bisa menggunakan tantangan yang muncul sebagai objek meditasi kita. Dengan demikian\, tantangan tersebut bukan lagi menjadi masalah\, melainkan menjadi bagian dari solusi kita. \nTerbuka untuk umum dan bebas biaya. Selasa\, 16 April 2024\, 19:00-20:00 WIB. Dipandu oleh Hemmarata dan Brian \nVia ZOOM\, meeting ID : 821 1856 5010\nPasscode : kesadaran \nInfo :\n– WA : 0838 0692 2450\n– Website : http://www.tergarindonesia.com/events/\n* Organized by @tergarindonesia
URL:https://tergarindonesia.com/event/problem-adalah-solusi/
CATEGORIES:Latihan Meditasi Bersama,Meditasi Umum
ATTACH;FMTTYPE=image/jpeg:https://tergarindonesia.com/wp-content/uploads/2024/04/WhatsApp-Image-2024-04-15-at-15.03.22-e1713168571236.jpeg
END:VEVENT
BEGIN:VEVENT
DTSTART;TZID=UTC:20240424T193000
DTEND;TZID=UTC:20240424T210000
DTSTAMP:20260422T071023
CREATED:20240423T030807Z
LAST-MODIFIED:20240423T030807Z
UID:2249-1713987000-1713992400@tergarindonesia.com
SUMMARY:I Don't Like Meditation...Really?
DESCRIPTION:Pada dasarnya\, meditasi secara ilmiah terbukti memberikan manfaat yang besar.\nNamun mendorong keinginan untuk bermeditasi apalagi melakukannya secara rutin tidak mudah.\nLalu\, bagaimana caranya agar kita dapat tetap berlatih? \nMari kita berlatih meditasi dan diskusi bersama di Tergar Meditation Center. \nWaktu : Rabu\, 24 April 2024\nJam 19:30 – 21:00 WIB\nBebas Biaya dan terbuka untuk umum. \nAlamat:\nJl. Daan Mogot\, Perumahan Green Mansion Boulevard Raya No.35\, Jakarta Barat\, DKI Jakarta.\nMaps: https://goo.gl/maps/maVW3Y3upjbVouqm8 \nInfo:\nTlp. 021-29025314 | WA. 083806922450\nhttps://tergarindonesia.com/events/\n@TergarIndonesia
URL:https://tergarindonesia.com/event/i-dont-like-meditation-really/
CATEGORIES:Latihan Meditasi Bersama,Meditasi Umum
ATTACH;FMTTYPE=image/jpeg:https://tergarindonesia.com/wp-content/uploads/2024/04/WhatsApp-Image-2024-04-23-at-09.08.50-e1713841660144.jpeg
END:VEVENT
BEGIN:VEVENT
DTSTART;TZID=UTC:20240430T190000
DTEND;TZID=UTC:20240430T200000
DTSTAMP:20260422T071023
CREATED:20240429T064301Z
LAST-MODIFIED:20240429T064301Z
UID:2255-1714503600-1714507200@tergarindonesia.com
SUMMARY:Menemukan Permata Diri\, Bukannya Memperoleh
DESCRIPTION:Banyak di antara kita\, karena kurang memahami meditasi akhirnya tidak lanjut latihannya. \nSalah satu pemahaman yang keliru adalah bahwa “saya bermeditasi supaya saya memperoleh berkah dari kekuatan yang tak kasat mata”. \nSebenarnya\, latihan meditasi justru membantu kita untuk menemukan “berkah / permata” yang sudah ada di dalam diri kita\, sebagaimana permata yang tidak kita kenali dan kita sadari. \nMari bersama-sama berlatih meditasi untuk menemukan permata yang sudah ada di dalam diri\, bukannya mengharapkan memperoleh dari luar.” \nTerbuka untuk umum dan bebas biaya. Selasa\, 30 April 2024\, 19:00-20:00 WIB. Dipandu oleh Hemmarata dan Brian \nVia ZOOM\, meeting ID : 821 1856 5010\nPasscode : kesadaran \nInfo :\n– WA : 0838 0692 2450\n– Website : http://www.tergarindonesia.com/events/\n* Organized by @tergarindonesia
URL:https://tergarindonesia.com/event/menemukan-permata-diri-bukannya-memperoleh/
CATEGORIES:Meditasi Umum
ATTACH;FMTTYPE=image/jpeg:https://tergarindonesia.com/wp-content/uploads/2024/04/WhatsApp-Image-2024-04-29-at-13.17.57-e1714372955226.jpeg
END:VEVENT
END:VCALENDAR