BEGIN:VCALENDAR
VERSION:2.0
PRODID:-//Tergar Indonesia - ECPv6.15.20//NONSGML v1.0//EN
CALSCALE:GREGORIAN
METHOD:PUBLISH
X-ORIGINAL-URL:https://tergarindonesia.com
X-WR-CALDESC:Events for Tergar Indonesia
REFRESH-INTERVAL;VALUE=DURATION:PT1H
X-Robots-Tag:noindex
X-PUBLISHED-TTL:PT1H
BEGIN:VTIMEZONE
TZID:UTC
BEGIN:STANDARD
TZOFFSETFROM:+0000
TZOFFSETTO:+0000
TZNAME:UTC
DTSTART:20230101T000000
END:STANDARD
END:VTIMEZONE
BEGIN:VEVENT
DTSTART;TZID=UTC:20240305T190000
DTEND;TZID=UTC:20240305T200000
DTSTAMP:20260422T085904
CREATED:20240305T025828Z
LAST-MODIFIED:20240305T025828Z
UID:2196-1709665200-1709668800@tergarindonesia.com
SUMMARY:Jangan Meningkatkan Tapi Kembangkan
DESCRIPTION:Mungkin masih banyak di antara kita yang memiliki keyakinan bahwa kualitas diri kita jauh dari ukuran yang cukup baik. Karena itu\, kita berusaha menjadi orang yang memiliki kualitas diri yang lebih baik. \nTentu keyakinan seperti ini membawa konsekuensi\, beberapa di antaranya adalah merasa tidak percaya diri\, tidak berharga\, tidak layak\, dan sebagainya. \nSesungguhnya\, kualitas dasar diri kita sudah baik atau sempurna. Yang kurang pada kita adalah bahwa kita tidak atau belum mengenalinya\, sehingga kita tidak mengembangkannya. \nCoba kita renungkan dan rasakan perbedaan antara saat kita merasa belum cukup baik dengan saat kita sudah merasa baik. Apa perbedaan perasaan dalam diri kita? \nMari kita berlatih meditasi bersama untuk menyadari dan mengenali kebaikan dasar bawaan (kualitas dasar diri) kita yang sudah baik atau sempurna\, sehingga ke depan kita hanya perlu mengembangkannya dalam kehidupan sehari-hari. \nTerbuka untuk umum dan bebas biaya. Selasa\, 05 Maret 2024\, 19:00-20:00 WIB. Dipandu oleh Hemmarata dan Gunawan \nVia ZOOM\, meeting ID : 821 1856 5010\nPasscode : kesadaran \nInfo :\n– WA : 0838 0692 2450\n– Website : http://www.tergarindonesia.com/events/\n• Organized by @tergarindonesia
URL:https://tergarindonesia.com/event/jangan-meningkatkan-tapi-kembangkan/
CATEGORIES:Latihan Meditasi Bersama,Meditasi Umum
ATTACH;FMTTYPE=image/jpeg:https://tergarindonesia.com/wp-content/uploads/2024/03/WhatsApp-Image-2024-03-04-at-21.56.31-e1709607485718.jpeg
END:VEVENT
BEGIN:VEVENT
DTSTART;TZID=UTC:20240313T193000
DTEND;TZID=UTC:20240313T210000
DTSTAMP:20260422T085904
CREATED:20240312T031230Z
LAST-MODIFIED:20240312T031230Z
UID:2209-1710358200-1710363600@tergarindonesia.com
SUMMARY:Nurturing the Spark of Awareness
DESCRIPTION:Batin kita memiliki kualitas mendasar yang sangat berharga. Namun seringkali kita lupa bahkan tidak mengenalinya. Mari kita berlatih dan berdiskusi bersama mengenali kualitas batin di Tergar Meditation Center. \nWaktu : Rabu\, 13 Maret 2024\nJam 19:30 – 21:00 WIB\nBebas Biaya dan terbuka untuk umum. \nAlamat:\nJl. Daan Mogot\, Perumahan Green Mansion Boulevard Raya No.35\, Jakarta Barat\, DKI Jakarta.\nMaps: https://goo.gl/maps/maVW3Y3upjbVouqm8 \nInfo:\n083806922450\nhttps://tergarindonesia.com/events/\n@TergarIndonesia
URL:https://tergarindonesia.com/event/nurturing-the-spark-of-awareness/
CATEGORIES:Latihan Meditasi Bersama,Meditasi Umum
ATTACH;FMTTYPE=image/jpeg:https://tergarindonesia.com/wp-content/uploads/2024/03/WhatsApp-Image-2024-03-11-at-21.31.15-e1710213119171.jpeg
END:VEVENT
BEGIN:VEVENT
DTSTART;TZID=UTC:20240319T190000
DTEND;TZID=UTC:20240319T200000
DTSTAMP:20260422T085904
CREATED:20240318T063610Z
LAST-MODIFIED:20240318T063610Z
UID:2216-1710874800-1710878400@tergarindonesia.com
SUMMARY:The Tea & Teacup
DESCRIPTION:Latihan Meditasi Bersama. Terbuka untuk umum dan bebas biaya. Selasa\, 19 Maret 2024\, 19:00-20:00 WIB. Dipandu oleh Elvi dan Eripin (co-host) \nVia ZOOM\, meeting ID : 821 1856 5010\nPasscode : kesadaran \nInfo :\n– WA : 0838 0692 2450\n– Website : http://www.tergarindonesia.com/events/\nOrganized by @tergarindonesia
URL:https://tergarindonesia.com/event/the-tea-teacup/
CATEGORIES:Latihan Meditasi Bersama,Meditasi Umum
ATTACH;FMTTYPE=image/jpeg:https://tergarindonesia.com/wp-content/uploads/2024/03/WhatsApp-Image-2024-03-17-at-16.45.25-e1710743745685.jpeg
END:VEVENT
BEGIN:VEVENT
DTSTART;TZID=UTC:20240327T193000
DTEND;TZID=UTC:20240327T210000
DTSTAMP:20260422T085904
CREATED:20240326T064429Z
LAST-MODIFIED:20240326T064429Z
UID:2224-1711567800-1711573200@tergarindonesia.com
SUMMARY:Embracing The Ups & Downs Of Life
DESCRIPTION:Latihan meditasi JOL 1 bersama.\nWaktu : Rabu\, 27 Maret 2024\nJam 19:30 – 21:00 WIB\nBebas Biaya dan terbuka untuk umum. \nAlamat:\nJl. Daan Mogot\, Perumahan Green Mansion Boulevard Raya No.35\, Jakarta Barat\, DKI Jakarta.\nMaps: https://goo.gl/maps/maVW3Y3upjbVouqm8 \nInfo:\n083806922450\nhttps://tergarindonesia.com/events/\n@TergarIndonesia
URL:https://tergarindonesia.com/event/embracing-the-ups-downs-of-life/
CATEGORIES:Latihan Meditasi Bersama,Meditasi Umum
ATTACH;FMTTYPE=image/jpeg:https://tergarindonesia.com/wp-content/uploads/2024/03/WhatsApp-Image-2024-03-26-at-11.44.46-e1711435439981.jpeg
END:VEVENT
END:VCALENDAR