BEGIN:VCALENDAR
VERSION:2.0
PRODID:-//Tergar Indonesia - ECPv6.15.20//NONSGML v1.0//EN
CALSCALE:GREGORIAN
METHOD:PUBLISH
X-WR-CALNAME:Tergar Indonesia
X-ORIGINAL-URL:https://tergarindonesia.com
X-WR-CALDESC:Events for Tergar Indonesia
REFRESH-INTERVAL;VALUE=DURATION:PT1H
X-Robots-Tag:noindex
X-PUBLISHED-TTL:PT1H
BEGIN:VTIMEZONE
TZID:UTC
BEGIN:STANDARD
TZOFFSETFROM:+0000
TZOFFSETTO:+0000
TZNAME:UTC
DTSTART:20220101T000000
END:STANDARD
END:VTIMEZONE
BEGIN:VEVENT
DTSTART;TZID=UTC:20230801T190000
DTEND;TZID=UTC:20230801T200000
DTSTAMP:20260424T142753
CREATED:20230801T023359Z
LAST-MODIFIED:20230801T023359Z
UID:1740-1690916400-1690920000@tergarindonesia.com
SUMMARY:Berdamai dengan Rasa Kecewa\, Mungkinkah ???
DESCRIPTION:Gampang diomong tapi apakah mungkin dipraktikkan ?…Persoalan apa itu ? Berdamai dengan rasa kecewa. \nMungkin kalau untuk peristiwa “kecil”\, kita mudah untuk berdamai dengan rasa kecewa\, tapi “kayaknya” sulit sekali untuk peristiwa besar. \nKecewa itu adalah salah satu bentuk penderitaan\, karena rasa kecewa umumnya disebabkan oleh rasa tidak puas yang muncul dalam diri kita. \nTentu “memelihara” rasa kecewa akan semakin menyulitkan hidup kita\, betul tidak ? \nMari kita berlatih meditasi bersama untuk mengembangkan keterampilan “berdamai dengan rasa kecewa”\, agar “berdamai dengan rasa kecewa” bukan lagi hanya sesuatu yang “mungkin”. \n  \nTerbuka untuk umum dan bebas biaya. Selasa\, 1 Agustus 2023\, 19:00-20:00 WIB. Dipandu oleh Hemmarata dan Suprianto. \nVia ZOOM\, meeting ID : 821 1856 5010\nPasscode : kesadaran \nInfo :\nWA : 0838 0692 2450 \n• Organized by @tergarindonesia
URL:https://tergarindonesia.com/event/berdamai-dengan-rasa-kecewa-mungkinkah/
CATEGORIES:Latihan Meditasi Bersama,Meditasi Umum
ATTACH;FMTTYPE=image/jpeg:https://tergarindonesia.com/wp-content/uploads/2023/08/WhatsApp-Image-2023-07-31-at-20.20.34-e1690857213472.jpeg
END:VEVENT
BEGIN:VEVENT
DTSTART;TZID=UTC:20230813T090000
DTEND;TZID=UTC:20230813T100000
DTSTAMP:20260424T142753
CREATED:20230810T024514Z
LAST-MODIFIED:20230810T024514Z
UID:1756-1691917200-1691920800@tergarindonesia.com
SUMMARY:Latihan Meditasi Bersama Khusus Surabaya
DESCRIPTION:Berteman dengan Rasa Takut Gagal \n“Gagal” adalah salah satu kata yang paling tidak ingin didengar atau diucapkan\, betul gak sih ? Karena “gagal” itu suatu keadaan yang sangat “menyesakkan” dan “menakutkan”. Dan karena itu\, orang jadi tidak suka atau cenderung menghindar dari “rasa takut gagal”. \nApakah kita memang perlu menghindarinya atau menjauhinya ? Atau justru sebaiknya kita “berteman” dengan rasa takut tsb ? \nMari kita berlatih meditasi bersama\, mentransformasi “rasa takut gagal” menjadi teman. \nTerbuka untuk umum dan bebas biaya. Minggu\, 13 Agt 2023\, 09:00-10:00 pagi WIB. Dipandu oleh Hemmarata. \n– Tempat : Gedung BEC Surabaya\, Jl. HR. Muhammad 179 ( Kompleks Pertokoan Surya Inti Permata II\, Blok D 8-9)\, Surabaya. \n– Kontak Info ( WA atau kontak langsung ) : 0851-0033-5577 ( Bpk. Kartono ) \nOrganized by Tergar Surabaya
URL:https://tergarindonesia.com/event/latihan-meditasi-bersama-khusus-surabaya/
CATEGORIES:Latihan Meditasi Bersama,Meditasi Umum
ATTACH;FMTTYPE=image/jpeg:https://tergarindonesia.com/wp-content/uploads/2023/08/WhatsApp-Image-2023-08-10-at-09.13.30-e1691635475992.jpeg
END:VEVENT
BEGIN:VEVENT
DTSTART;TZID=UTC:20230815T190000
DTEND;TZID=UTC:20230815T200000
DTSTAMP:20260424T142753
CREATED:20230815T031138Z
LAST-MODIFIED:20230815T031138Z
UID:1775-1692126000-1692129600@tergarindonesia.com
SUMMARY:Mentransformasi Rasa Sakit Menjadi Tidak Lagi Penderitaan
DESCRIPTION:Siapa sih yang suka dengan rasa sakit ? Umumnya orang tidak suka\, karena rasa sakit membuat rasa tidak nyaman dan itu membuat kita jadi menderita. \nRasa sakit seringkali muncul tanpa kita sengaja\, bukan kita yang menginginkannya. Lain halnya kalau kita yang minta untuk dipijat refleksi. \nDi sini menariknya\, rasa sakit yang tidak kita inginkan\, jadinya penderitaan. Tapi rasa sakit yang kita inginkan\, kita justru merasa baik-baik saja. \nMari kita berlatih meditasi bersama\, mentransformasi rasa sakit yang “tidak kita inginkan” menjadi tidak lagi penderitaan buat kita. \nTerbuka untuk umum dan bebas biaya. Selasa\, 15 Agustus 2023\, 19:00-20:00 WIB. Dipandu oleh Hemmarata dan Alit. \nVia ZOOM\, meeting ID : 821 1856 5010\nPasscode : kesadaran \nInfo :\n– WA : 0838 0692 2450\n• Organized by @tergarindonesia
URL:https://tergarindonesia.com/event/mentransformasi-rasa-sakit-menjadi-tidak-lagi-penderitaan/
CATEGORIES:Latihan Meditasi Bersama,Meditasi Umum
ATTACH;FMTTYPE=image/jpeg:https://tergarindonesia.com/wp-content/uploads/2023/08/WhatsApp-Image-2023-08-14-at-20.56.59-e1692069069943.jpeg
END:VEVENT
BEGIN:VEVENT
DTSTART;TZID=UTC:20230823T170000
DTEND;TZID=UTC:20230823T183000
DTSTAMP:20260424T142753
CREATED:20230821T082226Z
LAST-MODIFIED:20230821T082226Z
UID:1782-1692810000-1692815400@tergarindonesia.com
SUMMARY:Latihan Meditasi Bersama - Untuk Wilayah Surabaya dan sekitarnya
DESCRIPTION:Latihan Meditasi Bersama – Untuk Wilayah Surabaya dan sekitarnya \n“Bagaimana Menghadapi Kenyataan” \nKarena kita tidak mengetahui “kenyataan” dengan pengertian yang benar\, jadi seringnya “apa yang kita hadapi” sehari- hari kita anggap sebagai kenyataan. \nKekeliruan ini tentu membuat kita jadi semakin sulit menghadapi kenyataan yang sesungguhnya. \nBahasa sederhananya\, kita “mudah” menghadapi kenyataan jikalau kita memiliki pengertian yang benar dan keterampilan menghadapi kenyataan. \nMari kita berlatih meditasi bersama\, mengembangkan keterampilan menghadapi kenyataan. \nTerbuka untuk umum dan bebas biaya. Rabu\, 23 Agt 2023\, 17.00 – 18.30 WIB. Dipandu oleh Lingga. \n– Tempat : “Java Yoga” • Jl. Panglima Sudirman 31 D\, Surabaya. \n– Kontak Info ( WA atau kontak langsung ) : 0851-0033-5577 ( Bpk. Kartono ) \nOrganized by Tergar Surabaya
URL:https://tergarindonesia.com/event/latihan-meditasi-bersama-untuk-wilayah-surabaya-dan-sekitarnya/
CATEGORIES:Latihan Meditasi Bersama,Meditasi Umum
ATTACH;FMTTYPE=image/jpeg:https://tergarindonesia.com/wp-content/uploads/2023/08/WhatsApp-Image-2023-08-21-at-12.21.59-e1692606082311.jpeg
END:VEVENT
BEGIN:VEVENT
DTSTART;TZID=UTC:20230823T193000
DTEND;TZID=UTC:20230823T210000
DTSTAMP:20260424T142753
CREATED:20230822T030232Z
LAST-MODIFIED:20230822T030232Z
UID:1798-1692819000-1692824400@tergarindonesia.com
SUMMARY:Transforming Suffering
DESCRIPTION:Apakah yang bisa kita lakukan saat mengalami penderitaan? Bisakah kita merubah penderitaan sebagai bahan pembelajaran?\nMari kita berlatih meditasi dan diskusikan bersama di Tergar Meditation Center. \nWaktu : Rabu\, 23 Agustus 2023\nJam 19:30 – 21:00 WIB\nBebas Biaya dan terbuka untuk umum. \nNotes:\nAcara tatap muka secara langsung di Tergar Centre Jakarta\, dengan syarat:\nDalam kondisi sehat.\nMematuhi protokol kesehatan. \nAlamat:\nJl. Daan Mogot\, Perumahan Green Mansion Boulevard Raya No.35\, Jakarta Barat\, DKI Jakarta.\nMaps: https://goo.gl/maps/maVW3Y3upjbVouqm8 \nInfo:\nTlp. 021-29025314 | WA. 083806922450\n@TergarIndonesia
URL:https://tergarindonesia.com/event/transforming-suffering/
CATEGORIES:Latihan Meditasi Bersama,Meditasi Umum
ATTACH;FMTTYPE=image/jpeg:https://tergarindonesia.com/wp-content/uploads/2023/08/WhatsApp-Image-2023-08-22-at-09.55.52-e1692673317603.jpeg
END:VEVENT
BEGIN:VEVENT
DTSTART;TZID=UTC:20230829T190000
DTEND;TZID=UTC:20230829T200000
DTSTAMP:20260424T142753
CREATED:20230828T040149Z
LAST-MODIFIED:20230828T040149Z
UID:1811-1693335600-1693339200@tergarindonesia.com
SUMMARY:Allegory of The Cave
DESCRIPTION:Diskusi dan Latihan meditasi JOL 1.\nTerbuka untuk umum dan bebas biaya.\nSelasa\, 29 Agustus 2023\,\n19:00-20:00 WIB.\nDipandu oleh Elvi dan Eripin. \nVia ZOOM\, meeting ID : 821 1856 5010\nPasscode : kesadaran \nInfo :\n– WA : 0838 0692 2450\n• Organized by @tergarindonesia
URL:https://tergarindonesia.com/event/allegory-of-the-cave/
CATEGORIES:Latihan Meditasi Bersama,Meditasi Umum
ATTACH;FMTTYPE=image/jpeg:https://tergarindonesia.com/wp-content/uploads/2023/08/WhatsApp-Image-2023-08-27-at-12.33.36-e1693195277488.jpeg
END:VEVENT
END:VCALENDAR